View In:
ArcGIS JavaScript
ArcGIS Online Map Viewer
ArcGIS Earth
ArcGIS Pro
Service Description:
Map Name: Map
Legend
All Layers and Tables
Dynamic Legend
Dynamic All Layers
Layers:
Tables:
Description:
Service Item Id: 45feff7220ca4c5fac7f10adc7a1ac87
Copyright Text:
Spatial Reference:
102738
(2276)
LatestVCSWkid(0)
Single Fused Map Cache: true
Tile Info:
- Height: 256.0
- Width: 256.0
- DPI: 96.0
-
Levels of Detail: 24
-
Level ID: 0
[ Start Tile, End Tile ]
- Resolution: 979498.3233422163
- Scale: 1.1283843252588837E9
-
Level ID: 1
[ Start Tile, End Tile ]
- Resolution: 489749.16167110816
- Scale: 5.641921626294419E8
-
Level ID: 2
[ Start Tile, End Tile ]
- Resolution: 244874.58083555408
- Scale: 2.820960813147209E8
-
Level ID: 3
[ Start Tile, End Tile ]
- Resolution: 122437.29041777704
- Scale: 1.4104804065736046E8
-
Level ID: 4
[ Start Tile, End Tile ]
- Resolution: 61218.64520888852
- Scale: 7.052402032868023E7
-
Level ID: 5
[ Start Tile, End Tile ]
- Resolution: 30609.32260444426
- Scale: 3.5262010164340116E7
-
Level ID: 6
[ Start Tile, End Tile ]
- Resolution: 15304.66130222213
- Scale: 1.7631005082170058E7
-
Level ID: 7
[ Start Tile, End Tile ]
- Resolution: 7652.330651111065
- Scale: 8815502.541085029
-
Level ID: 8
[ Start Tile, End Tile ]
- Resolution: 3826.1653255555325
- Scale: 4407751.2705425145
-
Level ID: 9
[ Start Tile, End Tile ]
- Resolution: 1913.0826627777662
- Scale: 2203875.6352712573
-
Level ID: 10
[ Start Tile, End Tile ]
- Resolution: 956.5413313888831
- Scale: 1101937.8176356286
-
Level ID: 11
[ Start Tile, End Tile ]
- Resolution: 478.27066569444156
- Scale: 550968.9088178143
-
Level ID: 12
[ Start Tile, End Tile ]
- Resolution: 239.13533284722078
- Scale: 275484.45440890716
-
Level ID: 13
[ Start Tile, End Tile ]
- Resolution: 119.56766642361039
- Scale: 137742.22720445358
-
Level ID: 14
[ Start Tile, End Tile ]
- Resolution: 59.783833211805195
- Scale: 68871.11360222679
-
Level ID: 15
[ Start Tile, End Tile ]
- Resolution: 29.891916605902598
- Scale: 34435.556801113395
-
Level ID: 16
[ Start Tile, End Tile ]
- Resolution: 14.945958302951299
- Scale: 17217.778400556697
-
Level ID: 17
[ Start Tile, End Tile ]
- Resolution: 7.472979151475649
- Scale: 8608.889200278349
-
Level ID: 18
[ Start Tile, End Tile ]
- Resolution: 3.7364895757378247
- Scale: 4304.444600139174
-
Level ID: 19
[ Start Tile, End Tile ]
- Resolution: 1.8682447878689123
- Scale: 2152.222300069587
-
Level ID: 20
[ Start Tile, End Tile ]
- Resolution: 0.9341223939344562
- Scale: 1076.1111500347936
-
Level ID: 21
[ Start Tile, End Tile ]
- Resolution: 0.4670611969672281
- Scale: 538.0555750173968
-
Level ID: 22
[ Start Tile, End Tile ]
- Resolution: 0.23353059848361404
- Scale: 269.0277875086984
-
Level ID: 23
[ Start Tile, End Tile ]
- Resolution: 0.11676529924180702
- Scale: 134.5138937543492
- Format: PNG
- Compression Quality: 0.0
- Origin: X: -1.2340728538780369E8
Y: 1.1085021694596112E8
- Spatial Reference: 102738
(2276)
LatestVCSWkid(0)
Storage Info:
- Storage Format: esriMapCacheStorageModeCompactV2
- Packet Size: 128
Initial Extent:
XMin: 1925981.402887138
YMin: 6485608.314047652
XMax: 2813708.306465221
YMax: 7369531.760455308
Spatial Reference: 102738
(2276)
LatestVCSWkid(0)
Full Extent:
XMin: 1966332.6257770509
YMin: 6622452.050047725
XMax: 2773357.0835753083
YMax: 7232688.024455234
Spatial Reference: 102738
(2276)
LatestVCSWkid(0)
Units: esriFeet
Supported Image Format Types: PNG32,PNG24,PNG,JPG,DIB,TIFF,EMF,PS,PDF,GIF,SVG,SVGZ,BMP
Document Info:
Title: Map
Author:
Comments:
Subject:
Category:
Keywords: POP_ESTIMATES_REAL_RATES_BY_CITY,MapServer
AntialiasingMode: Best
TextAntialiasingMode: Force
Supports Dynamic Layers: true
MaxRecordCount: 2000
MaxSelectionCount: 2000
MaxImageHeight: 4096
MaxImageWidth: 4096
Supported Query Formats: JSON, geoJSON, PBF
Supports Query Data Elements: true
Min Scale: 550968.9088178143
Max Scale: 17217.778400556697
Min LOD: 11
Max LOD: 16
Supports Datum Transformation: true
Child Resources:
Info
Dynamic Layer
Supported Operations:
Export Map
Identify
QueryLegends
QueryDomains
Find
Return Updates