{
 "currentVersion": 11.3,
 "serviceDescription": "RDC/USGS_Historical_Imagery_1968",
 "name": "RDC/USGS_Historical_Imagery_1968",
 "description": "",
 "extent": {
  "xmin": 2314852.9727485008,
  "ymin": 6888926.003616905,
  "xmax": 2579106.604714375,
  "ymax": 7119088.845530131,
  "spatialReference": {
   "wkid": 102738,
   "latestWkid": 2276
  }
 },
 "initialExtent": {
  "xmin": 2314852.9727485008,
  "ymin": 6888926.003616905,
  "xmax": 2579106.604714375,
  "ymax": 7119088.845530131,
  "spatialReference": {
   "wkid": 102738,
   "latestWkid": 2276
  }
 },
 "fullExtent": {
  "xmin": 2314852.9727485008,
  "ymin": 6888926.003616905,
  "xmax": 2579106.604714375,
  "ymax": 7119088.845530131,
  "spatialReference": {
   "wkid": 102738,
   "latestWkid": 2276
  }
 },
 "sortableFields": "MinPS,MaxPS,LowPS,HighPS,CenterX,CenterY,ZOrder,Shape.STArea(),Shape.STLength()",
 "bandCount": 1,
 "pixelType": "U8",
 "minValues": [
  0
 ],
 "maxValues": [
  253
 ],
 "meanValues": [
  105.690408947119
 ],
 "stdvValues": [
  36.414992144348474
 ],
 "hasMultidimensions": false,
 "pixelSizeX": 1.9234253020000016,
 "pixelSizeY": 1.9234253020000005,
 "meanPixelSize": 0.5862612045720095,
 "datasetFormat": "AMD",
 "uncompressedSize": 16440140581,
 "blockWidth": 2048,
 "blockHeight": 256,
 "compressionType": "None",
 "bandNames": [
  "Band_1"
 ],
 "allowCopy": true,
 "allowAnalysis": true,
 "itemAccess": false,
 "inspectionCapabilities": "",
 "minPixelSize": 3.7364895757378247,
 "maxPixelSize": 30609.32260444426,
 "copyrightText": "",
 "serviceDataType": "esriImageServiceDataTypeGeneric",
 "serviceSourceType": "esriImageServiceSourceTypeMosaicDataset",
 "objectIdField": "OBJECTID",
 "fields": [
  {
   "name": "OBJECTID",
   "type": "esriFieldTypeOID",
   "alias": "OBJECTID",
   "domain": null
  },
  {
   "name": "Name",
   "type": "esriFieldTypeString",
   "alias": "Name",
   "domain": null,
   "length": 200
  },
  {
   "name": "MinPS",
   "type": "esriFieldTypeDouble",
   "alias": "MinPS",
   "domain": null
  },
  {
   "name": "MaxPS",
   "type": "esriFieldTypeDouble",
   "alias": "MaxPS",
   "domain": null
  },
  {
   "name": "LowPS",
   "type": "esriFieldTypeDouble",
   "alias": "LowPS",
   "domain": null
  },
  {
   "name": "HighPS",
   "type": "esriFieldTypeDouble",
   "alias": "HighPS",
   "domain": null
  },
  {
   "name": "Category",
   "type": "esriFieldTypeInteger",
   "alias": "Category",
   "domain": {
    "type": "codedValue",
    "name": "MosaicCatalogItemCategoryDomain",
    "description": "Catalog item categories.",
    "codedValues": [
     {
      "name": "Unknown",
      "code": 0
     },
     {
      "name": "Primary",
      "code": 1
     },
     {
      "name": "Overview",
      "code": 2
     },
     {
      "name": "Unprocessed Overview",
      "code": 3
     },
     {
      "name": "Partial Overview",
      "code": 4
     },
     {
      "name": "Uploaded",
      "code": 253
     },
     {
      "name": "Incomplete",
      "code": 254
     },
     {
      "name": "Custom",
      "code": 255
     }
    ],
    "mergePolicy": "esriMPTDefaultValue",
    "splitPolicy": "esriSPTDefaultValue"
   }
  },
  {
   "name": "Tag",
   "type": "esriFieldTypeString",
   "alias": "Tag",
   "domain": null,
   "length": 100
  },
  {
   "name": "GroupName",
   "type": "esriFieldTypeString",
   "alias": "GroupName",
   "domain": null,
   "length": 100
  },
  {
   "name": "ProductName",
   "type": "esriFieldTypeString",
   "alias": "ProductName",
   "domain": null,
   "length": 100
  },
  {
   "name": "CenterX",
   "type": "esriFieldTypeDouble",
   "alias": "CenterX",
   "domain": null
  },
  {
   "name": "CenterY",
   "type": "esriFieldTypeDouble",
   "alias": "CenterY",
   "domain": null
  },
  {
   "name": "ZOrder",
   "type": "esriFieldTypeInteger",
   "alias": "ZOrder",
   "domain": null
  },
  {
   "name": "Shape",
   "type": "esriFieldTypeGeometry",
   "alias": "Shape",
   "domain": null
  },
  {
   "name": "Shape.STArea()",
   "type": "esriFieldTypeDouble",
   "alias": "Shape.STArea()",
   "domain": null
  },
  {
   "name": "Shape.STLength()",
   "type": "esriFieldTypeDouble",
   "alias": "Shape.STLength()",
   "domain": null
  }
 ],
 "capabilities": "Catalog,Mensuration,Image,Metadata",
 "defaultMosaicMethod": "Northwest",
 "allowedMosaicMethods": "NorthWest,Center,LockRaster,ByAttribute,Nadir,Viewpoint,Seamline,None",
 "sortField": "",
 "sortValue": null,
 "sortAscending": true,
 "mosaicOperator": "First",
 "maxDownloadSizeLimit": 2048,
 "defaultCompressionQuality": 75,
 "defaultResamplingMethod": "Bilinear",
 "maxImageHeight": 4100,
 "maxImageWidth": 15000,
 "maxRecordCount": 1000,
 "maxDownloadImageCount": 20,
 "maxMosaicImageCount": 45,
 "singleFusedMapCache": true,
 "tileInfo": {
  "rows": 256,
  "cols": 256,
  "dpi": 96,
  "format": "PNG",
  "compressionQuality": 0,
  "origin": {
   "x": -1.2340728538780369E8,
   "y": 1.1085021694596112E8
  },
  "spatialReference": {
   "wkid": 102738,
   "latestWkid": 2276
  },
  "lods": [
   {
    "level": 0,
    "resolution": 979498.3233422163,
    "scale": 1.1283843252588837E9
   },
   {
    "level": 1,
    "resolution": 489749.16167110816,
    "scale": 5.641921626294419E8
   },
   {
    "level": 2,
    "resolution": 244874.58083555408,
    "scale": 2.820960813147209E8
   },
   {
    "level": 3,
    "resolution": 122437.29041777704,
    "scale": 1.4104804065736046E8
   },
   {
    "level": 4,
    "resolution": 61218.64520888852,
    "scale": 7.052402032868023E7
   },
   {
    "level": 5,
    "resolution": 30609.32260444426,
    "scale": 3.5262010164340116E7
   },
   {
    "level": 6,
    "resolution": 15304.66130222213,
    "scale": 1.7631005082170058E7
   },
   {
    "level": 7,
    "resolution": 7652.330651111065,
    "scale": 8815502.541085029
   },
   {
    "level": 8,
    "resolution": 3826.1653255555325,
    "scale": 4407751.2705425145
   },
   {
    "level": 9,
    "resolution": 1913.0826627777662,
    "scale": 2203875.6352712573
   },
   {
    "level": 10,
    "resolution": 956.5413313888831,
    "scale": 1101937.8176356286
   },
   {
    "level": 11,
    "resolution": 478.27066569444156,
    "scale": 550968.9088178143
   },
   {
    "level": 12,
    "resolution": 239.13533284722078,
    "scale": 275484.45440890716
   },
   {
    "level": 13,
    "resolution": 119.56766642361039,
    "scale": 137742.22720445358
   },
   {
    "level": 14,
    "resolution": 59.783833211805195,
    "scale": 68871.11360222679
   },
   {
    "level": 15,
    "resolution": 29.891916605902598,
    "scale": 34435.556801113395
   },
   {
    "level": 16,
    "resolution": 14.945958302951299,
    "scale": 17217.778400556697
   },
   {
    "level": 17,
    "resolution": 7.472979151475649,
    "scale": 8608.889200278349
   },
   {
    "level": 18,
    "resolution": 3.7364895757378247,
    "scale": 4304.444600139174
   }
  ]
 },
 "storageInfo": {
  "storageFormat": "esriMapCacheStorageModeCompactV2",
  "packetSize": 128
 },
 "cacheType": "Map",
 "allowRasterFunction": true,
 "rasterFunctionInfos": [
  {
   "name": "None",
   "description": "Make a Raster or Raster Dataset into a Function Raster Dataset.",
   "help": ""
  }
 ],
 "rasterTypeInfos": [
  {
   "name": "Raster Dataset",
   "description": "Supports all ArcGIS Raster Datasets",
   "help": ""
  }
 ],
 "mensurationCapabilities": "NONE",
 "hasHistograms": true,
 "hasColormap": false,
 "hasRasterAttributeTable": false,
 "minScale": 3.5262010164340116E7,
 "maxScale": 4304.444600139174,
 "minLOD": 5,
 "maxLOD": 18,
 "exportTilesAllowed": false,
 "supportsStatistics": true,
 "supportsAdvancedQueries": true,
 "editFieldsInfo": null,
 "ownershipBasedAccessControlForRasters": null,
 "allowComputeTiePoints": false,
 "useStandardizedQueries": true,
 "advancedQueryCapabilities": {
  "useStandardizedQueries": true,
  "supportsStatistics": true,
  "supportsOrderBy": true,
  "supportsDistinct": true,
  "supportsPagination": true
 },
 "spatialReference": {
  "wkid": 102738,
  "latestWkid": 2276
 },
 "resampling": false
}