<?xml version="1.0" encoding="UTF-8"?>
<Capabilities xmlns="http://www.opengis.net/wmts/1.0"
xmlns:ows="http://www.opengis.net/ows/1.1"
xmlns:xlink="http://www.w3.org/1999/xlink"
xmlns:xsi="http://www.w3.org/2001/XMLSchema-instance"
xmlns:gml="http://www.opengis.net/gml"
xsi:schemaLocation="http://www.opengis.net/wmts/1.0 http://schemas.opengis.net/wmts/1.0/wmtsGetCapabilities_response.xsd"
version="1.0.0">
<!-- Service Identification --> <ows:ServiceIdentification>
<ows:Title>Transportation_BikewayNetwork</ows:Title>
<ows:ServiceType>OGC WMTS</ows:ServiceType>
<ows:ServiceTypeVersion>1.0.0</ows:ServiceTypeVersion>
</ows:ServiceIdentification> <!-- Operations Metadata --> <ows:OperationsMetadata>
<ows:Operation name="GetCapabilities">
<ows:DCP>
<ows:HTTP>
<ows:Get xlink:href="https://geospatial.nctcog.org/map/rest/services/Transportation/BikewayNetwork/MapServer/WMTS/1.0.0/WMTSCapabilities.xml">
<ows:Constraint name="GetEncoding">
<ows:AllowedValues>
<ows:Value>RESTful</ows:Value>
</ows:AllowedValues>
</ows:Constraint>
</ows:Get>
<!-- add KVP binding in 10.1 -->
<ows:Get xlink:href="https://geospatial.nctcog.org/map/rest/services/Transportation/BikewayNetwork/MapServer/WMTS?">
<ows:Constraint name="GetEncoding">
<ows:AllowedValues>
<ows:Value>KVP</ows:Value>
</ows:AllowedValues>
</ows:Constraint>
</ows:Get>
</ows:HTTP>
</ows:DCP>
</ows:Operation>
<ows:Operation name="GetTile">
<ows:DCP>
<ows:HTTP>
<ows:Get xlink:href="https://geospatial.nctcog.org/map/rest/services/Transportation/BikewayNetwork/MapServer/WMTS/tile/1.0.0/">
<ows:Constraint name="GetEncoding">
<ows:AllowedValues>
<ows:Value>RESTful</ows:Value>
</ows:AllowedValues>
</ows:Constraint>
</ows:Get>
<ows:Get xlink:href="https://geospatial.nctcog.org/map/rest/services/Transportation/BikewayNetwork/MapServer/WMTS?">
<ows:Constraint name="GetEncoding">
<ows:AllowedValues>
<ows:Value>KVP</ows:Value>
</ows:AllowedValues>
</ows:Constraint>
</ows:Get>
</ows:HTTP>
</ows:DCP>
</ows:Operation>
</ows:OperationsMetadata> <Contents>
<!--Layer--> <Layer>
<ows:Title>Transportation_BikewayNetwork</ows:Title> <ows:Identifier>Transportation_BikewayNetwork</ows:Identifier>
<ows:BoundingBox crs="urn:ogc:def:crs:EPSG::2276">
<ows:LowerCorner>2103549.549177304 6733776.878250644</ows:LowerCorner>
<ows:UpperCorner>2776562.5223743916 7206462.39908506</ows:UpperCorner>
</ows:BoundingBox> <ows:WGS84BoundingBox crs="urn:ogc:def:crs:OGC:2:84">
<ows:LowerCorner>-98.06371793461905 32.11213529580506</ows:LowerCorner>
<ows:UpperCorner>-95.85156825956507 33.438202867659975</ows:UpperCorner>
</ows:WGS84BoundingBox>
<Style isDefault="true">
<ows:Title>Default Style</ows:Title>
<ows:Identifier>default</ows:Identifier>
</Style>
<Format>image/png</Format>
<TileMatrixSetLink>
<TileMatrixSet>default028mm</TileMatrixSet>
</TileMatrixSetLink>
<ResourceURL format="image/png" resourceType="tile" template="https://geospatial.nctcog.org/map/rest/services/Transportation/BikewayNetwork/MapServer/WMTS/tile/1.0.0/Transportation_BikewayNetwork/{Style}/{TileMatrixSet}/{TileMatrix}/{TileRow}/{TileCol}.png" />
</Layer> <!--TileMatrixSet-->
<TileMatrixSet>
<ows:Title>TileMatrix using 0.28mm</ows:Title>
<ows:Abstract>The tile matrix set that has scale values calculated based on the dpi defined by OGC specification (dpi assumes 0.28mm as the physical distance of a pixel).</ows:Abstract> <ows:Identifier>default028mm</ows:Identifier>
<ows:SupportedCRS>urn:ogc:def:crs:EPSG::2276</ows:SupportedCRS>
<TileMatrix>
<ows:Identifier>0</ows:Identifier>
<ScaleDenominator>1.0662560216358647E9</ScaleDenominator>
<TopLeftCorner>-1.2340728538780369E8 1.1085021694596112E8</TopLeftCorner> <TileWidth>256</TileWidth> <TileHeight>256</TileHeight>
<MatrixWidth>1</MatrixWidth> <MatrixHeight>1</MatrixHeight>
</TileMatrix>
<TileMatrix>
<ows:Identifier>1</ows:Identifier>
<ScaleDenominator>5.3312801081793237E8</ScaleDenominator>
<TopLeftCorner>-1.2340728538780369E8 1.1085021694596112E8</TopLeftCorner> <TileWidth>256</TileWidth> <TileHeight>256</TileHeight>
<MatrixWidth>2</MatrixWidth> <MatrixHeight>1</MatrixHeight>
</TileMatrix>
<TileMatrix>
<ows:Identifier>2</ows:Identifier>
<ScaleDenominator>2.6656400540896618E8</ScaleDenominator>
<TopLeftCorner>-1.2340728538780369E8 1.1085021694596112E8</TopLeftCorner> <TileWidth>256</TileWidth> <TileHeight>256</TileHeight>
<MatrixWidth>3</MatrixWidth> <MatrixHeight>2</MatrixHeight>
</TileMatrix>
<TileMatrix>
<ows:Identifier>3</ows:Identifier>
<ScaleDenominator>1.3328200270448309E8</ScaleDenominator>
<TopLeftCorner>-1.2340728538780369E8 1.1085021694596112E8</TopLeftCorner> <TileWidth>256</TileWidth> <TileHeight>256</TileHeight>
<MatrixWidth>5</MatrixWidth> <MatrixHeight>4</MatrixHeight>
</TileMatrix>
<TileMatrix>
<ows:Identifier>4</ows:Identifier>
<ScaleDenominator>6.6641001352241546E7</ScaleDenominator>
<TopLeftCorner>-1.2340728538780369E8 1.1085021694596112E8</TopLeftCorner> <TileWidth>256</TileWidth> <TileHeight>256</TileHeight>
<MatrixWidth>9</MatrixWidth> <MatrixHeight>7</MatrixHeight>
</TileMatrix>
<TileMatrix>
<ows:Identifier>5</ows:Identifier>
<ScaleDenominator>3.3320500676120773E7</ScaleDenominator>
<TopLeftCorner>-1.2340728538780369E8 1.1085021694596112E8</TopLeftCorner> <TileWidth>256</TileWidth> <TileHeight>256</TileHeight>
<MatrixWidth>17</MatrixWidth> <MatrixHeight>14</MatrixHeight>
</TileMatrix>
<TileMatrix>
<ows:Identifier>6</ows:Identifier>
<ScaleDenominator>1.6660250338060386E7</ScaleDenominator>
<TopLeftCorner>-1.2340728538780369E8 1.1085021694596112E8</TopLeftCorner> <TileWidth>256</TileWidth> <TileHeight>256</TileHeight>
<MatrixWidth>33</MatrixWidth> <MatrixHeight>27</MatrixHeight>
</TileMatrix>
<TileMatrix>
<ows:Identifier>7</ows:Identifier>
<ScaleDenominator>8330125.169030193</ScaleDenominator>
<TopLeftCorner>-1.2340728538780369E8 1.1085021694596112E8</TopLeftCorner> <TileWidth>256</TileWidth> <TileHeight>256</TileHeight>
<MatrixWidth>65</MatrixWidth> <MatrixHeight>54</MatrixHeight>
</TileMatrix>
<TileMatrix>
<ows:Identifier>8</ows:Identifier>
<ScaleDenominator>4165062.5845150966</ScaleDenominator>
<TopLeftCorner>-1.2340728538780369E8 1.1085021694596112E8</TopLeftCorner> <TileWidth>256</TileWidth> <TileHeight>256</TileHeight>
<MatrixWidth>129</MatrixWidth> <MatrixHeight>107</MatrixHeight>
</TileMatrix>
<TileMatrix>
<ows:Identifier>9</ows:Identifier>
<ScaleDenominator>2082531.2922575483</ScaleDenominator>
<TopLeftCorner>-1.2340728538780369E8 1.1085021694596112E8</TopLeftCorner> <TileWidth>256</TileWidth> <TileHeight>256</TileHeight>
<MatrixWidth>258</MatrixWidth> <MatrixHeight>213</MatrixHeight>
</TileMatrix>
<TileMatrix>
<ows:Identifier>10</ows:Identifier>
<ScaleDenominator>1041265.6461287742</ScaleDenominator>
<TopLeftCorner>-1.2340728538780369E8 1.1085021694596112E8</TopLeftCorner> <TileWidth>256</TileWidth> <TileHeight>256</TileHeight>
<MatrixWidth>516</MatrixWidth> <MatrixHeight>426</MatrixHeight>
</TileMatrix>
<TileMatrix>
<ows:Identifier>11</ows:Identifier>
<ScaleDenominator>520632.8230643871</ScaleDenominator>
<TopLeftCorner>-1.2340728538780369E8 1.1085021694596112E8</TopLeftCorner> <TileWidth>256</TileWidth> <TileHeight>256</TileHeight>
<MatrixWidth>1031</MatrixWidth> <MatrixHeight>851</MatrixHeight>
</TileMatrix>
<TileMatrix>
<ows:Identifier>12</ows:Identifier>
<ScaleDenominator>260316.41153219354</ScaleDenominator>
<TopLeftCorner>-1.2340728538780369E8 1.1085021694596112E8</TopLeftCorner> <TileWidth>256</TileWidth> <TileHeight>256</TileHeight>
<MatrixWidth>2062</MatrixWidth> <MatrixHeight>1701</MatrixHeight>
</TileMatrix>
<TileMatrix>
<ows:Identifier>13</ows:Identifier>
<ScaleDenominator>130158.20576609677</ScaleDenominator>
<TopLeftCorner>-1.2340728538780369E8 1.1085021694596112E8</TopLeftCorner> <TileWidth>256</TileWidth> <TileHeight>256</TileHeight>
<MatrixWidth>4123</MatrixWidth> <MatrixHeight>3402</MatrixHeight>
</TileMatrix>
<TileMatrix>
<ows:Identifier>14</ows:Identifier>
<ScaleDenominator>65079.102883048385</ScaleDenominator>
<TopLeftCorner>-1.2340728538780369E8 1.1085021694596112E8</TopLeftCorner> <TileWidth>256</TileWidth> <TileHeight>256</TileHeight>
<MatrixWidth>8245</MatrixWidth> <MatrixHeight>6803</MatrixHeight>
</TileMatrix>
<TileMatrix>
<ows:Identifier>15</ows:Identifier>
<ScaleDenominator>32539.551441524192</ScaleDenominator>
<TopLeftCorner>-1.2340728538780369E8 1.1085021694596112E8</TopLeftCorner> <TileWidth>256</TileWidth> <TileHeight>256</TileHeight>
<MatrixWidth>16490</MatrixWidth> <MatrixHeight>13606</MatrixHeight>
</TileMatrix>
<TileMatrix>
<ows:Identifier>16</ows:Identifier>
<ScaleDenominator>16269.775720762096</ScaleDenominator>
<TopLeftCorner>-1.2340728538780369E8 1.1085021694596112E8</TopLeftCorner> <TileWidth>256</TileWidth> <TileHeight>256</TileHeight>
<MatrixWidth>32980</MatrixWidth> <MatrixHeight>27212</MatrixHeight>
</TileMatrix>
<TileMatrix>
<ows:Identifier>17</ows:Identifier>
<ScaleDenominator>8134.887860381048</ScaleDenominator>
<TopLeftCorner>-1.2340728538780369E8 1.1085021694596112E8</TopLeftCorner> <TileWidth>256</TileWidth> <TileHeight>256</TileHeight>
<MatrixWidth>65959</MatrixWidth> <MatrixHeight>54424</MatrixHeight>
</TileMatrix>
<TileMatrix>
<ows:Identifier>18</ows:Identifier>
<ScaleDenominator>4067.443930190524</ScaleDenominator>
<TopLeftCorner>-1.2340728538780369E8 1.1085021694596112E8</TopLeftCorner> <TileWidth>256</TileWidth> <TileHeight>256</TileHeight>
<MatrixWidth>131917</MatrixWidth> <MatrixHeight>108847</MatrixHeight>
</TileMatrix>
<TileMatrix>
<ows:Identifier>19</ows:Identifier>
<ScaleDenominator>2033.721965095262</ScaleDenominator>
<TopLeftCorner>-1.2340728538780369E8 1.1085021694596112E8</TopLeftCorner> <TileWidth>256</TileWidth> <TileHeight>256</TileHeight>
<MatrixWidth>263834</MatrixWidth> <MatrixHeight>217694</MatrixHeight>
</TileMatrix>
<TileMatrix>
<ows:Identifier>20</ows:Identifier>
<ScaleDenominator>1016.860982547631</ScaleDenominator>
<TopLeftCorner>-1.2340728538780369E8 1.1085021694596112E8</TopLeftCorner> <TileWidth>256</TileWidth> <TileHeight>256</TileHeight>
<MatrixWidth>527668</MatrixWidth> <MatrixHeight>435388</MatrixHeight>
</TileMatrix>
<TileMatrix>
<ows:Identifier>21</ows:Identifier>
<ScaleDenominator>508.4304912738155</ScaleDenominator>
<TopLeftCorner>-1.2340728538780369E8 1.1085021694596112E8</TopLeftCorner> <TileWidth>256</TileWidth> <TileHeight>256</TileHeight>
<MatrixWidth>1055335</MatrixWidth> <MatrixHeight>870775</MatrixHeight>
</TileMatrix>
<TileMatrix>
<ows:Identifier>22</ows:Identifier>
<ScaleDenominator>254.21524563690775</ScaleDenominator>
<TopLeftCorner>-1.2340728538780369E8 1.1085021694596112E8</TopLeftCorner> <TileWidth>256</TileWidth> <TileHeight>256</TileHeight>
<MatrixWidth>2110669</MatrixWidth> <MatrixHeight>1741549</MatrixHeight>
</TileMatrix>
<TileMatrix>
<ows:Identifier>23</ows:Identifier>
<ScaleDenominator>127.10762281845388</ScaleDenominator>
<TopLeftCorner>-1.2340728538780369E8 1.1085021694596112E8</TopLeftCorner> <TileWidth>256</TileWidth> <TileHeight>256</TileHeight>
<MatrixWidth>4221337</MatrixWidth> <MatrixHeight>3483097</MatrixHeight>
</TileMatrix>
</TileMatrixSet>
</Contents>
<ServiceMetadataURL xlink:href="https://geospatial.nctcog.org/map/rest/services/Transportation/BikewayNetwork/MapServer/WMTS/1.0.0/WMTSCapabilities.xml" /> </Capabilities>
