{
 "currentVersion": 11.5,
 "cimVersion": "3.5.0",
 "serviceDescription": "",
 "mapName": "Map",
 "description": "",
 "copyrightText": "",
 "supportsDynamicLayers": true,
 "layers": [
  {
   "id": 0,
   "name": "CONTOURS-CITY OF DENTON (2021)",
   "parentLayerId": -1,
   "defaultVisibility": true,
   "subLayerIds": null,
   "minScale": 87014,
   "maxScale": 0,
   "type": "Feature Layer",
   "geometryType": "esriGeometryPolyline",
   "supportsDynamicLegends": true
  }
 ],
 "tables": [],
 "spatialReference": {
  "wkid": 103159,
  "latestWkid": 6584,
  "xyTolerance": 0.003280833333333333,
  "zTolerance": 0.001,
  "mTolerance": 0.001,
  "falseX": -123407700,
  "falseY": -86123500,
  "xyUnits": 3048.0060960121928,
  "falseZ": -100000,
  "zUnits": 10000,
  "falseM": -100000,
  "mUnits": 10000
 },
 "singleFusedMapCache": true,
 "tileInfo": {
  "rows": 256,
  "cols": 256,
  "dpi": 96,
  "format": "PNG",
  "compressionQuality": 0,
  "origin": {
   "x": -1.2340728538780369E8,
   "y": 1.1085021694596112E8
  },
  "spatialReference": {
   "wkid": 103159,
   "latestWkid": 6584,
   "xyTolerance": 0.003280833333333333,
   "zTolerance": 0.001,
   "mTolerance": 0.001,
   "falseX": -123407700,
   "falseY": -86123500,
   "xyUnits": 3048.0060960121928,
   "falseZ": -100000,
   "zUnits": 10000,
   "falseM": -100000,
   "mUnits": 10000
  },
  "lods": [
   {
    "level": 0,
    "resolution": 979498.3233422163,
    "scale": 1.1283843252588837E9
   },
   {
    "level": 1,
    "resolution": 489749.16167110816,
    "scale": 5.641921626294419E8
   },
   {
    "level": 2,
    "resolution": 244874.58083555408,
    "scale": 2.820960813147209E8
   },
   {
    "level": 3,
    "resolution": 122437.29041777704,
    "scale": 1.4104804065736046E8
   },
   {
    "level": 4,
    "resolution": 61218.64520888852,
    "scale": 7.052402032868023E7
   },
   {
    "level": 5,
    "resolution": 30609.32260444426,
    "scale": 3.5262010164340116E7
   },
   {
    "level": 6,
    "resolution": 15304.66130222213,
    "scale": 1.7631005082170058E7
   },
   {
    "level": 7,
    "resolution": 7652.330651111065,
    "scale": 8815502.541085029
   },
   {
    "level": 8,
    "resolution": 3826.1653255555325,
    "scale": 4407751.2705425145
   },
   {
    "level": 9,
    "resolution": 1913.0826627777662,
    "scale": 2203875.6352712573
   },
   {
    "level": 10,
    "resolution": 956.5413313888831,
    "scale": 1101937.8176356286
   },
   {
    "level": 11,
    "resolution": 478.27066569444156,
    "scale": 550968.9088178143
   },
   {
    "level": 12,
    "resolution": 239.13533284722078,
    "scale": 275484.45440890716
   },
   {
    "level": 13,
    "resolution": 119.56766642361039,
    "scale": 137742.22720445358
   },
   {
    "level": 14,
    "resolution": 59.783833211805195,
    "scale": 68871.11360222679
   },
   {
    "level": 15,
    "resolution": 29.891916605902598,
    "scale": 34435.556801113395
   },
   {
    "level": 16,
    "resolution": 14.945958302951299,
    "scale": 17217.778400556697
   },
   {
    "level": 17,
    "resolution": 7.472979151475649,
    "scale": 8608.889200278349
   },
   {
    "level": 18,
    "resolution": 3.7364895757378247,
    "scale": 4304.444600139174
   },
   {
    "level": 19,
    "resolution": 1.8682447878689123,
    "scale": 2152.222300069587
   },
   {
    "level": 20,
    "resolution": 0.9341223939344562,
    "scale": 1076.1111500347936
   },
   {
    "level": 21,
    "resolution": 0.4670611969672281,
    "scale": 538.0555750173968
   },
   {
    "level": 22,
    "resolution": 0.23353059848361404,
    "scale": 269.0277875086984
   },
   {
    "level": 23,
    "resolution": 0.11676529924180702,
    "scale": 134.5138937543492
   }
  ]
 },
 "storageInfo": {
  "storageFormat": "esriMapCacheStorageModeCompactV2",
  "packetSize": 128
 },
 "initialExtent": {
  "xmin": 2370172.989957838,
  "ymin": 7114639.905219809,
  "xmax": 2370325.6365354913,
  "ymax": 7114767.539264831,
  "spatialReference": {
   "wkid": 103159,
   "latestWkid": 6584,
   "xyTolerance": 0.003280833333333333,
   "zTolerance": 0.001,
   "mTolerance": 0.001,
   "falseX": -123407700,
   "falseY": -86123500,
   "xyUnits": 3048.0060960121928,
   "falseZ": -100000,
   "zUnits": 10000,
   "falseM": -100000,
   "mUnits": 10000
  }
 },
 "fullExtent": {
  "xmin": 2347469.6499188095,
  "ymin": 7096137.94880265,
  "xmax": 2404550.707016304,
  "ymax": 7147994.92579715,
  "zmin": 522.000071083341,
  "zmax": 841.0000892500102,
  "mmin": null,
  "mmax": null,
  "spatialReference": {
   "wkid": 103159,
   "latestWkid": 6584,
   "xyTolerance": 0.003280833333333333,
   "zTolerance": 0.001,
   "mTolerance": 0.001,
   "falseX": -123407700,
   "falseY": -86123500,
   "xyUnits": 3048.0060960121928,
   "falseZ": -100000,
   "zUnits": 10000,
   "falseM": -100000,
   "mUnits": 10000
  }
 },
 "datesInUnknownTimezone": false,
 "minScale": 137742.22720445358,
 "maxScale": 1076.1111500347936,
 "minLOD": 13,
 "maxLOD": 20,
 "units": "esriFeet",
 "supportedImageFormatTypes": "PNG32,PNG24,PNG,JPG,DIB,TIFF,EMF,PS,PDF,GIF,SVG,SVGZ,BMP",
 "documentInfo": {
  "Title": "Map",
  "Author": "",
  "Comments": "",
  "Subject": "",
  "Category": "",
  "Version": "3.5.0",
  "AntialiasingMode": "Best",
  "TextAntialiasingMode": "Force",
  "Keywords": "CONTOURS_CITY_DENTON_2021,MapServer"
 },
 "supportsQueryDomains": true,
 "capabilities": "Query,Map,Data,TileMap",
 "supportedQueryFormats": "JSON, geoJSON, PBF",
 "exportTilesAllowed": false,
 "referenceScale": 0.0,
 "datumTransformations": [
  {
   "geoTransforms": [
    {
     "wkid": 108363,
     "latestWkid": 108363,
     "transformForward": true,
     "name": "WGS_1984_(ITRF08)_To_NAD_1983_2011"
    }
   ]
  },
  {
   "geoTransforms": [
    {
     "wkid": 108363,
     "latestWkid": 108363,
     "transformForward": false,
     "name": "WGS_1984_(ITRF08)_To_NAD_1983_2011"
    }
   ]
  },
  {
   "geoTransforms": [
    {
     "wkid": 108363,
     "latestWkid": 108363,
     "transformForward": true,
     "name": "WGS_1984_(ITRF08)_To_NAD_1983_2011"
    }
   ]
  },
  {
   "geoTransforms": [
    {
     "wkid": 108363,
     "latestWkid": 108363,
     "transformForward": false,
     "name": "WGS_1984_(ITRF08)_To_NAD_1983_2011"
    }
   ]
  }
 ],
 "supportsDatumTransformation": true,
 "archivingInfo": {
  "supportsHistoricMoment": false
 },
 "supportsClipping": true,
 "supportsSpatialFilter": true,
 "supportsTimeRelation": true,
 "supportsQueryDataElements": true,
 "mapUnits": {
  "uwkid": 9003
 },
 "maxSelectionCount": 2000,
 "maxRecordCount": 2000,
 "maxImageHeight": 4096,
 "maxImageWidth": 4096,
 "supportedExtensions": "",
 "serviceItemId": "8a3d56a529bf4b34a2638408248b4867"
}
