<?xml version="1.0" encoding="UTF-8"?>
<Capabilities xmlns="http://www.opengis.net/wmts/1.0"
xmlns:ows="http://www.opengis.net/ows/1.1"
xmlns:xlink="http://www.w3.org/1999/xlink"
xmlns:xsi="http://www.w3.org/2001/XMLSchema-instance"
xmlns:gml="http://www.opengis.net/gml"
xsi:schemaLocation="http://www.opengis.net/wmts/1.0 http://schemas.opengis.net/wmts/1.0/wmtsGetCapabilities_response.xsd"
version="1.0.0">
<!-- Service Identification --> <ows:ServiceIdentification>
<ows:Title>Environment_CONTOURS_CITY_DENTON_2021</ows:Title>
<ows:ServiceType>OGC WMTS</ows:ServiceType>
<ows:ServiceTypeVersion>1.0.0</ows:ServiceTypeVersion>
</ows:ServiceIdentification> <!-- Operations Metadata --> <ows:OperationsMetadata>
<ows:Operation name="GetCapabilities">
<ows:DCP>
<ows:HTTP>
<ows:Get xlink:href="https://geospatial.nctcog.org/map/rest/services/Environment/CONTOURS_CITY_DENTON_2021/MapServer/WMTS/1.0.0/WMTSCapabilities.xml">
<ows:Constraint name="GetEncoding">
<ows:AllowedValues>
<ows:Value>RESTful</ows:Value>
</ows:AllowedValues>
</ows:Constraint>
</ows:Get>
<!-- add KVP binding in 10.1 -->
<ows:Get xlink:href="https://geospatial.nctcog.org/map/rest/services/Environment/CONTOURS_CITY_DENTON_2021/MapServer/WMTS?">
<ows:Constraint name="GetEncoding">
<ows:AllowedValues>
<ows:Value>KVP</ows:Value>
</ows:AllowedValues>
</ows:Constraint>
</ows:Get>
</ows:HTTP>
</ows:DCP>
</ows:Operation>
<ows:Operation name="GetTile">
<ows:DCP>
<ows:HTTP>
<ows:Get xlink:href="https://geospatial.nctcog.org/map/rest/services/Environment/CONTOURS_CITY_DENTON_2021/MapServer/WMTS/tile/1.0.0/">
<ows:Constraint name="GetEncoding">
<ows:AllowedValues>
<ows:Value>RESTful</ows:Value>
</ows:AllowedValues>
</ows:Constraint>
</ows:Get>
<ows:Get xlink:href="https://geospatial.nctcog.org/map/rest/services/Environment/CONTOURS_CITY_DENTON_2021/MapServer/WMTS?">
<ows:Constraint name="GetEncoding">
<ows:AllowedValues>
<ows:Value>KVP</ows:Value>
</ows:AllowedValues>
</ows:Constraint>
</ows:Get>
</ows:HTTP>
</ows:DCP>
</ows:Operation>
</ows:OperationsMetadata> <Contents>
<!--Layer--> <Layer>
<ows:Title>Environment_CONTOURS_CITY_DENTON_2021</ows:Title> <ows:Identifier>Environment_CONTOURS_CITY_DENTON_2021</ows:Identifier>
<ows:BoundingBox crs="urn:ogc:def:crs:EPSG::6584">
<ows:LowerCorner>2347469.6499188095 7096137.94880265</ows:LowerCorner>
<ows:UpperCorner>2404550.707016304 7147994.92579715</ows:UpperCorner>
</ows:BoundingBox> <ows:WGS84BoundingBox crs="urn:ogc:def:crs:OGC:2:84">
<ows:LowerCorner>-97.26198781989649 33.12763670070026</ows:LowerCorner>
<ows:UpperCorner>-97.07323588405431 33.27214736301201</ows:UpperCorner>
</ows:WGS84BoundingBox>
<Style isDefault="true">
<ows:Title>Default Style</ows:Title>
<ows:Identifier>default</ows:Identifier>
</Style>
<Format>image/png</Format>
<TileMatrixSetLink>
<TileMatrixSet>default028mm</TileMatrixSet>
</TileMatrixSetLink>
<ResourceURL format="image/png" resourceType="tile" template="https://geospatial.nctcog.org/map/rest/services/Environment/CONTOURS_CITY_DENTON_2021/MapServer/WMTS/tile/1.0.0/Environment_CONTOURS_CITY_DENTON_2021/{Style}/{TileMatrixSet}/{TileMatrix}/{TileRow}/{TileCol}.png" />
</Layer> <!--TileMatrixSet-->
<TileMatrixSet>
<ows:Title>TileMatrix using 0.28mm</ows:Title>
<ows:Abstract>The tile matrix set that has scale values calculated based on the dpi defined by OGC specification (dpi assumes 0.28mm as the physical distance of a pixel).</ows:Abstract> <ows:Identifier>default028mm</ows:Identifier>
<ows:SupportedCRS>urn:ogc:def:crs:EPSG::6584</ows:SupportedCRS>
<TileMatrix>
<ows:Identifier>0</ows:Identifier>
<ScaleDenominator>1.0662560216358647E9</ScaleDenominator>
<TopLeftCorner>-1.2340728538780369E8 1.1085021694596112E8</TopLeftCorner> <TileWidth>256</TileWidth> <TileHeight>256</TileHeight>
<MatrixWidth>1</MatrixWidth> <MatrixHeight>1</MatrixHeight>
</TileMatrix>
<TileMatrix>
<ows:Identifier>1</ows:Identifier>
<ScaleDenominator>5.3312801081793237E8</ScaleDenominator>
<TopLeftCorner>-1.2340728538780369E8 1.1085021694596112E8</TopLeftCorner> <TileWidth>256</TileWidth> <TileHeight>256</TileHeight>
<MatrixWidth>2</MatrixWidth> <MatrixHeight>1</MatrixHeight>
</TileMatrix>
<TileMatrix>
<ows:Identifier>2</ows:Identifier>
<ScaleDenominator>2.6656400540896618E8</ScaleDenominator>
<TopLeftCorner>-1.2340728538780369E8 1.1085021694596112E8</TopLeftCorner> <TileWidth>256</TileWidth> <TileHeight>256</TileHeight>
<MatrixWidth>3</MatrixWidth> <MatrixHeight>2</MatrixHeight>
</TileMatrix>
<TileMatrix>
<ows:Identifier>3</ows:Identifier>
<ScaleDenominator>1.3328200270448309E8</ScaleDenominator>
<TopLeftCorner>-1.2340728538780369E8 1.1085021694596112E8</TopLeftCorner> <TileWidth>256</TileWidth> <TileHeight>256</TileHeight>
<MatrixWidth>5</MatrixWidth> <MatrixHeight>4</MatrixHeight>
</TileMatrix>
<TileMatrix>
<ows:Identifier>4</ows:Identifier>
<ScaleDenominator>6.6641001352241546E7</ScaleDenominator>
<TopLeftCorner>-1.2340728538780369E8 1.1085021694596112E8</TopLeftCorner> <TileWidth>256</TileWidth> <TileHeight>256</TileHeight>
<MatrixWidth>9</MatrixWidth> <MatrixHeight>7</MatrixHeight>
</TileMatrix>
<TileMatrix>
<ows:Identifier>5</ows:Identifier>
<ScaleDenominator>3.3320500676120773E7</ScaleDenominator>
<TopLeftCorner>-1.2340728538780369E8 1.1085021694596112E8</TopLeftCorner> <TileWidth>256</TileWidth> <TileHeight>256</TileHeight>
<MatrixWidth>17</MatrixWidth> <MatrixHeight>14</MatrixHeight>
</TileMatrix>
<TileMatrix>
<ows:Identifier>6</ows:Identifier>
<ScaleDenominator>1.6660250338060386E7</ScaleDenominator>
<TopLeftCorner>-1.2340728538780369E8 1.1085021694596112E8</TopLeftCorner> <TileWidth>256</TileWidth> <TileHeight>256</TileHeight>
<MatrixWidth>33</MatrixWidth> <MatrixHeight>27</MatrixHeight>
</TileMatrix>
<TileMatrix>
<ows:Identifier>7</ows:Identifier>
<ScaleDenominator>8330125.169030193</ScaleDenominator>
<TopLeftCorner>-1.2340728538780369E8 1.1085021694596112E8</TopLeftCorner> <TileWidth>256</TileWidth> <TileHeight>256</TileHeight>
<MatrixWidth>65</MatrixWidth> <MatrixHeight>53</MatrixHeight>
</TileMatrix>
<TileMatrix>
<ows:Identifier>8</ows:Identifier>
<ScaleDenominator>4165062.5845150966</ScaleDenominator>
<TopLeftCorner>-1.2340728538780369E8 1.1085021694596112E8</TopLeftCorner> <TileWidth>256</TileWidth> <TileHeight>256</TileHeight>
<MatrixWidth>129</MatrixWidth> <MatrixHeight>106</MatrixHeight>
</TileMatrix>
<TileMatrix>
<ows:Identifier>9</ows:Identifier>
<ScaleDenominator>2082531.2922575483</ScaleDenominator>
<TopLeftCorner>-1.2340728538780369E8 1.1085021694596112E8</TopLeftCorner> <TileWidth>256</TileWidth> <TileHeight>256</TileHeight>
<MatrixWidth>257</MatrixWidth> <MatrixHeight>212</MatrixHeight>
</TileMatrix>
<TileMatrix>
<ows:Identifier>10</ows:Identifier>
<ScaleDenominator>1041265.6461287742</ScaleDenominator>
<TopLeftCorner>-1.2340728538780369E8 1.1085021694596112E8</TopLeftCorner> <TileWidth>256</TileWidth> <TileHeight>256</TileHeight>
<MatrixWidth>514</MatrixWidth> <MatrixHeight>424</MatrixHeight>
</TileMatrix>
<TileMatrix>
<ows:Identifier>11</ows:Identifier>
<ScaleDenominator>520632.8230643871</ScaleDenominator>
<TopLeftCorner>-1.2340728538780369E8 1.1085021694596112E8</TopLeftCorner> <TileWidth>256</TileWidth> <TileHeight>256</TileHeight>
<MatrixWidth>1028</MatrixWidth> <MatrixHeight>848</MatrixHeight>
</TileMatrix>
<TileMatrix>
<ows:Identifier>12</ows:Identifier>
<ScaleDenominator>260316.41153219354</ScaleDenominator>
<TopLeftCorner>-1.2340728538780369E8 1.1085021694596112E8</TopLeftCorner> <TileWidth>256</TileWidth> <TileHeight>256</TileHeight>
<MatrixWidth>2056</MatrixWidth> <MatrixHeight>1695</MatrixHeight>
</TileMatrix>
<TileMatrix>
<ows:Identifier>13</ows:Identifier>
<ScaleDenominator>130158.20576609677</ScaleDenominator>
<TopLeftCorner>-1.2340728538780369E8 1.1085021694596112E8</TopLeftCorner> <TileWidth>256</TileWidth> <TileHeight>256</TileHeight>
<MatrixWidth>4111</MatrixWidth> <MatrixHeight>3390</MatrixHeight>
</TileMatrix>
<TileMatrix>
<ows:Identifier>14</ows:Identifier>
<ScaleDenominator>65079.102883048385</ScaleDenominator>
<TopLeftCorner>-1.2340728538780369E8 1.1085021694596112E8</TopLeftCorner> <TileWidth>256</TileWidth> <TileHeight>256</TileHeight>
<MatrixWidth>8221</MatrixWidth> <MatrixHeight>6780</MatrixHeight>
</TileMatrix>
<TileMatrix>
<ows:Identifier>15</ows:Identifier>
<ScaleDenominator>32539.551441524192</ScaleDenominator>
<TopLeftCorner>-1.2340728538780369E8 1.1085021694596112E8</TopLeftCorner> <TileWidth>256</TileWidth> <TileHeight>256</TileHeight>
<MatrixWidth>16441</MatrixWidth> <MatrixHeight>13559</MatrixHeight>
</TileMatrix>
<TileMatrix>
<ows:Identifier>16</ows:Identifier>
<ScaleDenominator>16269.775720762096</ScaleDenominator>
<TopLeftCorner>-1.2340728538780369E8 1.1085021694596112E8</TopLeftCorner> <TileWidth>256</TileWidth> <TileHeight>256</TileHeight>
<MatrixWidth>32882</MatrixWidth> <MatrixHeight>27117</MatrixHeight>
</TileMatrix>
<TileMatrix>
<ows:Identifier>17</ows:Identifier>
<ScaleDenominator>8134.887860381048</ScaleDenominator>
<TopLeftCorner>-1.2340728538780369E8 1.1085021694596112E8</TopLeftCorner> <TileWidth>256</TileWidth> <TileHeight>256</TileHeight>
<MatrixWidth>65764</MatrixWidth> <MatrixHeight>54234</MatrixHeight>
</TileMatrix>
<TileMatrix>
<ows:Identifier>18</ows:Identifier>
<ScaleDenominator>4067.443930190524</ScaleDenominator>
<TopLeftCorner>-1.2340728538780369E8 1.1085021694596112E8</TopLeftCorner> <TileWidth>256</TileWidth> <TileHeight>256</TileHeight>
<MatrixWidth>131528</MatrixWidth> <MatrixHeight>108468</MatrixHeight>
</TileMatrix>
<TileMatrix>
<ows:Identifier>19</ows:Identifier>
<ScaleDenominator>2033.721965095262</ScaleDenominator>
<TopLeftCorner>-1.2340728538780369E8 1.1085021694596112E8</TopLeftCorner> <TileWidth>256</TileWidth> <TileHeight>256</TileHeight>
<MatrixWidth>263056</MatrixWidth> <MatrixHeight>216936</MatrixHeight>
</TileMatrix>
<TileMatrix>
<ows:Identifier>20</ows:Identifier>
<ScaleDenominator>1016.860982547631</ScaleDenominator>
<TopLeftCorner>-1.2340728538780369E8 1.1085021694596112E8</TopLeftCorner> <TileWidth>256</TileWidth> <TileHeight>256</TileHeight>
<MatrixWidth>526112</MatrixWidth> <MatrixHeight>433872</MatrixHeight>
</TileMatrix>
<TileMatrix>
<ows:Identifier>21</ows:Identifier>
<ScaleDenominator>508.4304912738155</ScaleDenominator>
<TopLeftCorner>-1.2340728538780369E8 1.1085021694596112E8</TopLeftCorner> <TileWidth>256</TileWidth> <TileHeight>256</TileHeight>
<MatrixWidth>1052223</MatrixWidth> <MatrixHeight>867744</MatrixHeight>
</TileMatrix>
<TileMatrix>
<ows:Identifier>22</ows:Identifier>
<ScaleDenominator>254.21524563690775</ScaleDenominator>
<TopLeftCorner>-1.2340728538780369E8 1.1085021694596112E8</TopLeftCorner> <TileWidth>256</TileWidth> <TileHeight>256</TileHeight>
<MatrixWidth>2104446</MatrixWidth> <MatrixHeight>1735488</MatrixHeight>
</TileMatrix>
<TileMatrix>
<ows:Identifier>23</ows:Identifier>
<ScaleDenominator>127.10762281845388</ScaleDenominator>
<TopLeftCorner>-1.2340728538780369E8 1.1085021694596112E8</TopLeftCorner> <TileWidth>256</TileWidth> <TileHeight>256</TileHeight>
<MatrixWidth>4208892</MatrixWidth> <MatrixHeight>3470975</MatrixHeight>
</TileMatrix>
</TileMatrixSet>
</Contents>
<ServiceMetadataURL xlink:href="https://geospatial.nctcog.org/map/rest/services/Environment/CONTOURS_CITY_DENTON_2021/MapServer/WMTS/1.0.0/WMTSCapabilities.xml" /> </Capabilities>
